BEGIN:VCALENDAR
VERSION:2.0
PRODID:-//AquaBuin - ECPv6.13.2.1//NONSGML v1.0//EN
CALSCALE:GREGORIAN
METHOD:PUBLISH
X-WR-CALNAME:AquaBuin
X-ORIGINAL-URL:https://aquabuin.cl
X-WR-CALDESC:Eventos para AquaBuin
REFRESH-INTERVAL;VALUE=DURATION:PT1H
X-Robots-Tag:noindex
X-PUBLISHED-TTL:PT1H
BEGIN:VTIMEZONE
TZID:America/Sao_Paulo
BEGIN:STANDARD
TZOFFSETFROM:-0300
TZOFFSETTO:-0300
TZNAME:-03
DTSTART:20260101T000000
END:STANDARD
END:VTIMEZONE
BEGIN:VEVENT
DTSTART;VALUE=DATE:20260223
DTEND;VALUE=DATE:20260224
DTSTAMP:20260424T054056
CREATED:20260105T152033Z
LAST-MODIFIED:20260105T152033Z
UID:989628-1771804800-1771891199@aquabuin.cl
SUMMARY:Cerrado por Evento Exclusivo
DESCRIPTION:
URL:https://aquabuin.cl/event/cerrado-por-evento-exclusivo-19/
END:VEVENT
BEGIN:VEVENT
DTSTART;VALUE=DATE:20260216
DTEND;VALUE=DATE:20260217
DTSTAMP:20260424T054056
CREATED:20260105T152010Z
LAST-MODIFIED:20260105T152010Z
UID:989626-1771200000-1771286399@aquabuin.cl
SUMMARY:Cerrado por Evento Exclusivo
DESCRIPTION:
URL:https://aquabuin.cl/event/cerrado-por-evento-exclusivo-7/
END:VEVENT
BEGIN:VEVENT
DTSTART;VALUE=DATE:20260209
DTEND;VALUE=DATE:20260210
DTSTAMP:20260424T054056
CREATED:20260105T151941Z
LAST-MODIFIED:20260105T151941Z
UID:989624-1770595200-1770681599@aquabuin.cl
SUMMARY:Cerrado por Evento Exclusivo
DESCRIPTION:
URL:https://aquabuin.cl/event/cerrado-por-evento-exclusivo-5/
END:VEVENT
BEGIN:VEVENT
DTSTART;VALUE=DATE:20260202
DTEND;VALUE=DATE:20260203
DTSTAMP:20260424T054056
CREATED:20260105T151918Z
LAST-MODIFIED:20260105T151918Z
UID:989622-1769990400-1770076799@aquabuin.cl
SUMMARY:Cerrado por Evento Exclusivo
DESCRIPTION:
URL:https://aquabuin.cl/event/cerrado-por-evento-exclusivo-4/
END:VEVENT
BEGIN:VEVENT
DTSTART;VALUE=DATE:20260130
DTEND;VALUE=DATE:20260131
DTSTAMP:20260424T054056
CREATED:20251114T134716Z
LAST-MODIFIED:20251114T134728Z
UID:989572-1769731200-1769817599@aquabuin.cl
SUMMARY:Cerrado por Evento Exclusivo
DESCRIPTION:
URL:https://aquabuin.cl/event/cerrado-por-evento-exclusivo-18/
END:VEVENT
BEGIN:VEVENT
DTSTART;TZID=America/Sao_Paulo:20260129T080000
DTEND;TZID=America/Sao_Paulo:20260129T170000
DTSTAMP:20260424T054056
CREATED:20251114T134649Z
LAST-MODIFIED:20251114T134649Z
UID:989570-1769673600-1769706000@aquabuin.cl
SUMMARY:Cerrado por Evento Exclusivo
DESCRIPTION:
URL:https://aquabuin.cl/event/cerrado-por-evento-exclusivo-17/
END:VEVENT
BEGIN:VEVENT
DTSTART;VALUE=DATE:20260128
DTEND;VALUE=DATE:20260129
DTSTAMP:20260424T054056
CREATED:20251114T134626Z
LAST-MODIFIED:20251114T134626Z
UID:989568-1769558400-1769644799@aquabuin.cl
SUMMARY:Cerrado por Evento Exclusivo
DESCRIPTION:
URL:https://aquabuin.cl/event/cerrado-por-evento-exclusivo-16/
END:VEVENT
BEGIN:VEVENT
DTSTART;VALUE=DATE:20260127
DTEND;VALUE=DATE:20260128
DTSTAMP:20260424T054056
CREATED:20251114T134545Z
LAST-MODIFIED:20251114T134559Z
UID:989566-1769472000-1769558399@aquabuin.cl
SUMMARY:Cerrado por Evento Exclusivo
DESCRIPTION:
URL:https://aquabuin.cl/event/cerrado-por-evento-exclusivo-3/
END:VEVENT
BEGIN:VEVENT
DTSTART;TZID=America/Sao_Paulo:20260126T000000
DTEND;TZID=America/Sao_Paulo:20260130T235900
DTSTAMP:20260424T054056
CREATED:20251009T172254Z
LAST-MODIFIED:20251009T172330Z
UID:989561-1769385600-1769817540@aquabuin.cl
SUMMARY:Cerrado por Evento Exclusivo
DESCRIPTION:
URL:https://aquabuin.cl/event/cerrado-por-evento-exclusivo-15/
END:VEVENT
BEGIN:VEVENT
DTSTART;VALUE=DATE:20260124
DTEND;VALUE=DATE:20260125
DTSTAMP:20260424T054056
CREATED:20251009T172214Z
LAST-MODIFIED:20251009T172214Z
UID:989559-1769212800-1769299199@aquabuin.cl
SUMMARY:Cerrado por Evento Exclusivo
DESCRIPTION:
URL:https://aquabuin.cl/event/cerrado-por-evento-exclusivo-14/
END:VEVENT
BEGIN:VEVENT
DTSTART;VALUE=DATE:20260123
DTEND;VALUE=DATE:20260124
DTSTAMP:20260424T054056
CREATED:20250924T121921Z
LAST-MODIFIED:20250924T121921Z
UID:989552-1769126400-1769212799@aquabuin.cl
SUMMARY:Cerrado por Evento Exclusivo
DESCRIPTION:
URL:https://aquabuin.cl/event/cerrado-por-evento-exclusivo-12/
END:VEVENT
BEGIN:VEVENT
DTSTART;VALUE=DATE:20260122
DTEND;VALUE=DATE:20260123
DTSTAMP:20260424T054056
CREATED:20250924T121841Z
LAST-MODIFIED:20250924T121841Z
UID:989550-1769040000-1769126399@aquabuin.cl
SUMMARY:Cerrado por Evento Exclusivo
DESCRIPTION:
URL:https://aquabuin.cl/event/cerrado-por-evento-exclusivo-11/
END:VEVENT
BEGIN:VEVENT
DTSTART;VALUE=DATE:20260121
DTEND;VALUE=DATE:20260122
DTSTAMP:20260424T054056
CREATED:20250924T121817Z
LAST-MODIFIED:20250924T121817Z
UID:989548-1768953600-1769039999@aquabuin.cl
SUMMARY:Cerrado por Evento Exclusivo
DESCRIPTION:
URL:https://aquabuin.cl/event/cerrado-por-evento-exclusivo-10/
END:VEVENT
BEGIN:VEVENT
DTSTART;VALUE=DATE:20260120
DTEND;VALUE=DATE:20260121
DTSTAMP:20260424T054056
CREATED:20250924T121741Z
LAST-MODIFIED:20250924T121741Z
UID:989546-1768867200-1768953599@aquabuin.cl
SUMMARY:Cerrado por Evento Exclusivo
DESCRIPTION:
URL:https://aquabuin.cl/event/cerrado-por-evento-exclusivo-9/
END:VEVENT
BEGIN:VEVENT
DTSTART;VALUE=DATE:20260119
DTEND;VALUE=DATE:20260120
DTSTAMP:20260424T054056
CREATED:20250924T121652Z
LAST-MODIFIED:20250924T121652Z
UID:989544-1768780800-1768867199@aquabuin.cl
SUMMARY:Cerrado por Evento Exclusivo
DESCRIPTION:
URL:https://aquabuin.cl/event/cerrado-por-evento-exclusivo-8/
END:VEVENT
BEGIN:VEVENT
DTSTART;TZID=America/Sao_Paulo:20260118T080000
DTEND;TZID=America/Sao_Paulo:20260118T170000
DTSTAMP:20260424T054056
CREATED:20251009T172129Z
LAST-MODIFIED:20260112T115755Z
UID:989557-1768723200-1768755600@aquabuin.cl
SUMMARY:Entradas limitadas- Asegura tu entrada via web
DESCRIPTION:
URL:https://aquabuin.cl/event/cerrado-por-evento-exclusivo-13/
END:VEVENT
BEGIN:VEVENT
DTSTART;VALUE=DATE:20260114
DTEND;VALUE=DATE:20260115
DTSTAMP:20260424T054056
CREATED:20251229T115214Z
LAST-MODIFIED:20251229T115214Z
UID:989617-1768348800-1768435199@aquabuin.cl
SUMMARY:Cerrado por Evento Exclusivo
DESCRIPTION:
URL:https://aquabuin.cl/event/cerrado-por-evento-exclusivo-6/
END:VEVENT
BEGIN:VEVENT
DTSTART;VALUE=DATE:20260112
DTEND;VALUE=DATE:20260113
DTSTAMP:20260424T054056
CREATED:20260105T151819Z
LAST-MODIFIED:20260105T151835Z
UID:989620-1768176000-1768262399@aquabuin.cl
SUMMARY:Cerrado por Evento Exclusivo
DESCRIPTION:
URL:https://aquabuin.cl/event/cerrado-por-evento-exclusivo/
END:VEVENT
BEGIN:VEVENT
DTSTART;VALUE=DATE:20260107
DTEND;VALUE=DATE:20260108
DTSTAMP:20260424T054056
CREATED:20251229T115146Z
LAST-MODIFIED:20251229T115146Z
UID:989615-1767744000-1767830399@aquabuin.cl
SUMMARY:Cerrado por Evento Exclusivo
DESCRIPTION:
URL:https://aquabuin.cl/event/cerrado-por-evento-exclusivo-2/
END:VEVENT
END:VCALENDAR